BEGIN:VCALENDAR
VERSION:2.0
PRODID:-//Squarespace Inc/Squarespace 6//v6//EN
BEGIN:VEVENT
UID:5b9fc17e6d2a73605fbced0b@squarespace.com
DTSTAMP:20181023T082408Z
DTSTART:20181026T230000Z
DTEND:20181027T010000Z
SUMMARY:Fashion Revolution - Queenstown
GEO:-45.023726;168.697269
LOCATION:Sherwood Queenstown\, 554 Frankton Road\, Queenstown\, OTA\, 9300\
 , New Zealand
END:VEVENT
END:VCALENDAR
