BEGIN:VCALENDAR
VERSION:2.0
PRODID:-//Squarespace Inc/Squarespace 6//v6//EN
BEGIN:VEVENT
UID:5b9a273b6d2a73dd96db1853@squarespace.com
DTSTAMP:20181021T195840Z
DTSTART:20181024T220000Z
DTEND:20181025T010000Z
SUMMARY:Building Better - Wanaka
GEO:-44.703271;169.185821
LOCATION:Wanaka Lavender Farm\, 36 Morris Rd\, Wanaka 9382\, Wanaka\, 9305\
 , New Zealand
END:VEVENT
END:VCALENDAR
