BEGIN:VCALENDAR
VERSION:2.0
PRODID:-//Squarespace Inc/Squarespace 6//v6//EN
BEGIN:VEVENT
UID:5bbbea969140b782d10f9a53@squarespace.com
DTSTAMP:20181008T234407Z
DTSTART:20181024T140000Z
DTEND:20181024T160000Z
SUMMARY:Beach Clean Up
GEO:-44.69496;169.135158
LOCATION:Paddle Wanaka\, 99 Ardmore Street\, Lake Front\, Wanaka\, 9305\, N
 ew Zealand
END:VEVENT
END:VCALENDAR
