BEGIN:VCALENDAR
VERSION:2.0
PRODID:-//Squarespace Inc/Squarespace 6//v6//EN
BEGIN:VEVENT
UID:5b9a2dcd1ae6cfe40ee0580f@squarespace.com
DTSTAMP:20181021T200009Z
DTSTART:20181025T220000Z
DTEND:20181026T010000Z
SUMMARY:Building Better - Queenstown
GEO:-45.023726;168.697269
LOCATION:Sherwood Queenstown\, 554 Frankton Road\, Queenstown\, OTA\, 9300\
 , New Zealand
END:VEVENT
END:VCALENDAR
