BEGIN:VCALENDAR
VERSION:2.0
PRODID:-//Squarespace Inc/Squarespace 6//v6//EN
BEGIN:VEVENT
UID:5bb2d97ca4222f8928752a49@squarespace.com
DTSTAMP:20181016T052634Z
DTSTART:20181023T160000Z
DTEND:20181023T180000Z
SUMMARY:Working as One - Hospitality Workshop
GEO:-44.694125;169.140269
LOCATION:Lake Wanaka Centre\, 20 ardmore street\, wanaka\, 9305\, new zeala
 nd
END:VEVENT
END:VCALENDAR
