BEGIN:VCALENDAR
VERSION:2.0
PRODID:-//Squarespace Inc/Squarespace 6//v6//EN
BEGIN:VEVENT
UID:5b98c8dd4fa51a8f86e5b129@squarespace.com
DTSTAMP:20181012T010855Z
DTSTART:20181023T130000Z
DTEND:20181023T153000Z
SUMMARY:Working as One - Sustainable Business Summit
GEO:-44.694125;169.140269
LOCATION:Lake Wanaka Centre\, 20 ardmore street\, wanaka\, 9305\, new zeala
 nd
END:VEVENT
END:VCALENDAR
