BEGIN:VCALENDAR
VERSION:2.0
PRODID:-//Squarespace Inc/Squarespace 6//v6//EN
BEGIN:VEVENT
UID:5b9a25d9b8a045cb6ca1b681@squarespace.com
DTSTAMP:20181023T082314Z
DTSTART:20181025T230000Z
DTEND:20181026T010000Z
SUMMARY:Fashion Revolution - Wanaka
GEO:-44.694125;169.140269
LOCATION:Lake Wanaka Centre\, 20 ardmore street\, wanaka\, 9305\, new zeala
 nd
END:VEVENT
END:VCALENDAR
