BEGIN:VCALENDAR
VERSION:2.0
PRODID:-//Squarespace Inc/Squarespace 6//v6//EN
BEGIN:VEVENT
UID:5b9a2c95b8a045cb6ca1e65e@squarespace.com
DTSTAMP:20181021T211320Z
DTSTART:20181027T180000Z
DTEND:20181027T193000Z
SUMMARY:Investing in our Future - Queenstown
GEO:-44.694125;169.140269
LOCATION:Sherwood Queenstown\, 554 Frankton Rd\,\, Queenstown 9348\, new ze
 aland
END:VEVENT
END:VCALENDAR
