BEGIN:VCALENDAR
VERSION:2.0
PRODID:-//Squarespace Inc/Squarespace 6//v6//EN
BEGIN:VEVENT
UID:5b9a25b28985830bc3e6229a@squarespace.com
DTSTAMP:20181022T002311Z
DTSTART:20181028T193000Z
DTEND:20181028T210000Z
SUMMARY:What is Sustainable Tourism? Wanaka
GEO:-44.694125;169.140269
LOCATION:Lake Wanaka Centre\, 20 ardmore street\, wanaka\, 9305\, new zeala
 nd
END:VEVENT
END:VCALENDAR
