BEGIN:VCALENDAR
VERSION:2.0
PRODID:-//Squarespace Inc/Squarespace 6//v6//EN
BEGIN:VEVENT
UID:5b9cd51d70a6ad3a54143be1@squarespace.com
DTSTAMP:20181008T225627Z
DTSTART:20181023T130000Z
DTEND:20181028T220000Z
SUMMARY:Envisioning 2050
GEO:-44.694125;169.140269
LOCATION:Lake Wanaka Centre\, 20 Ardmore Street\, Wanaka\, 9305\, New Zeala
 nd
END:VEVENT
END:VCALENDAR
