BEGIN:VCALENDAR
VERSION:2.0
PRODID:-//Squarespace Inc/Squarespace 6//v6//EN
BEGIN:VEVENT
UID:5b9a2c3688251b25f1bcf2c0@squarespace.com
DTSTAMP:20181021T202801Z
DTSTART:20181027T203000Z
DTEND:20181027T223000Z
SUMMARY:This Is Why - Our Path to Carbon Zero
GEO:-45.023726;168.697269
LOCATION:Sherwood Queenstown\, 554 Frankton Rd\, Queenstown 9348\, Queensto
 wn 9348\, New Zealand
END:VEVENT
END:VCALENDAR
