BEGIN:VCALENDAR
VERSION:2.0
PRODID:-//Squarespace Inc/Squarespace 6//v6//EN
BEGIN:VEVENT
UID:5b9a2a852b6a288509f69927@squarespace.com
DTSTAMP:20181008T234630Z
DTSTART:20181025T140000Z
DTEND:20181025T160000Z
SUMMARY:Sustainable Tourism Workshop - Queenstown
GEO:-44.694125;169.140269
LOCATION:Sherwood Queenstown\, 554 Frankton Rd\,\, Queenstown 9348\, new ze
 aland
END:VEVENT
END:VCALENDAR
