BEGIN:VCALENDAR
VERSION:2.0
PRODID:-//Squarespace Inc/Squarespace 6//v6//EN
BEGIN:VEVENT
UID:5b9a249a8985830bc3e61aab@squarespace.com
DTSTAMP:20181008T234539Z
DTSTART:20181024T180000Z
DTEND:20181024T200000Z
SUMMARY:Sustainable Tourism Workshop - Wanaka
GEO:-44.694125;169.140269
LOCATION:Lake Wanaka Centre\, 20 ardmore street\, wanaka\, 9305\, new zeala
 nd
END:VEVENT
END:VCALENDAR
