BEGIN:VCALENDAR
VERSION:2.0
PRODID:-//Squarespace Inc/Squarespace 6//v6//EN
BEGIN:VEVENT
UID:5b9fc3704ae237d166c7496b@squarespace.com
DTSTAMP:20181008T230954Z
DTSTART:20181028T140000Z
DTEND:20181028T160000Z
SUMMARY:The Rubbish Trip - Bare Essentials Workshop
GEO:-44.694125;169.140269
LOCATION:Lake Wanaka Centre\, 20 ardmore street\, wanaka\, 9305\, new zeala
 nd
END:VEVENT
END:VCALENDAR
