BEGIN:VCALENDAR
VERSION:2.0
PRODID:-//Squarespace Inc/Squarespace 6//v6//EN
BEGIN:VEVENT
UID:5b9a262b4fa51abe6b88b985@squarespace.com
DTSTAMP:20181008T230822Z
DTSTART:20181027T140000Z
DTEND:20181027T160000Z
SUMMARY:The Rubbish Trip - Reducing Our Household Rubbish
GEO:-44.694125;169.140269
LOCATION:Lake Wanaka Centre\, 20 ardmore street\, wanaka\, 9305\, new zeala
 nd
END:VEVENT
END:VCALENDAR
