BEGIN:VCALENDAR
VERSION:2.0
PRODID:-//Squarespace Inc/Squarespace 6//v6//EN
BEGIN:VEVENT
UID:5b9a254db8a045cb6ca1b2e3@squarespace.com
DTSTAMP:20181021T201846Z
DTSTART:20181026T230000Z
DTEND:20181027T010000Z
SUMMARY:This Is Why - Our Path to Carbon Zero
GEO:-44.694125;169.140269
LOCATION:Lake Wanaka Centre\, 20 Ardmore Street\, Wanaka\, New Zealand
END:VEVENT
END:VCALENDAR
