BEGIN:VCALENDAR
VERSION:2.0
PRODID:-//Squarespace Inc/Squarespace 6//v6//EN
BEGIN:VEVENT
UID:5b9a2e690ebbe8e9409f1daa@squarespace.com
DTSTAMP:20181008T225617Z
DTSTART:20181020T130000Z
DTEND:20181021T220000Z
SUMMARY:Great Glenorchy Getaway Weekend
GEO:-44.849744;168.38586
LOCATION:Camp Glenorchy\, 42 Mull Street\, Glenorchy 9372\, New Zealand
END:VEVENT
END:VCALENDAR
